BEGIN:VCALENDAR
VERSION:2.0
PRODID:-//The Wharf - ECPv6.15.20//NONSGML v1.0//EN
CALSCALE:GREGORIAN
METHOD:PUBLISH
X-WR-CALNAME:The Wharf
X-ORIGINAL-URL:https://thewharfnj.com
X-WR-CALDESC:Events for The Wharf
REFRESH-INTERVAL;VALUE=DURATION:PT1H
X-Robots-Tag:noindex
X-PUBLISHED-TTL:PT1H
BEGIN:VTIMEZONE
TZID:America/New_York
BEGIN:DAYLIGHT
TZOFFSETFROM:-0500
TZOFFSETTO:-0400
TZNAME:EDT
DTSTART:20230312T070000
END:DAYLIGHT
BEGIN:STANDARD
TZOFFSETFROM:-0400
TZOFFSETTO:-0500
TZNAME:EST
DTSTART:20231105T060000
END:STANDARD
BEGIN:DAYLIGHT
TZOFFSETFROM:-0500
TZOFFSETTO:-0400
TZNAME:EDT
DTSTART:20240310T070000
END:DAYLIGHT
BEGIN:STANDARD
TZOFFSETFROM:-0400
TZOFFSETTO:-0500
TZNAME:EST
DTSTART:20241103T060000
END:STANDARD
BEGIN:DAYLIGHT
TZOFFSETFROM:-0500
TZOFFSETTO:-0400
TZNAME:EDT
DTSTART:20250309T070000
END:DAYLIGHT
BEGIN:STANDARD
TZOFFSETFROM:-0400
TZOFFSETTO:-0500
TZNAME:EST
DTSTART:20251102T060000
END:STANDARD
END:VTIMEZONE
BEGIN:VEVENT
DTSTART;TZID=America/New_York:20240623T160000
DTEND;TZID=America/New_York:20240623T200000
DTSTAMP:20260420T042443
CREATED:20240621T192558Z
LAST-MODIFIED:20240621T192558Z
UID:10000154-1719158400-1719172800@thewharfnj.com
SUMMARY:DJ Ernie Spiotto
DESCRIPTION:
URL:https://thewharfnj.com/event/dj-ernie-spiotto-11/
END:VEVENT
BEGIN:VEVENT
DTSTART;TZID=America/New_York:20240623T140000
DTEND;TZID=America/New_York:20240623T180000
DTSTAMP:20260420T042443
CREATED:20240621T192558Z
LAST-MODIFIED:20240621T192558Z
UID:10000155-1719151200-1719165600@thewharfnj.com
SUMMARY:Fat Mezz
DESCRIPTION:
URL:https://thewharfnj.com/event/fat-mezz-15/
END:VEVENT
BEGIN:VEVENT
DTSTART;TZID=America/New_York:20240622T190000
DTEND;TZID=America/New_York:20240622T220000
DTSTAMP:20260420T042443
CREATED:20240621T192557Z
LAST-MODIFIED:20240621T192557Z
UID:10000152-1719082800-1719093600@thewharfnj.com
SUMMARY:The Company
DESCRIPTION:
URL:https://thewharfnj.com/event/the-company-4/
END:VEVENT
BEGIN:VEVENT
DTSTART;TZID=America/New_York:20240622T150000
DTEND;TZID=America/New_York:20240622T190000
DTSTAMP:20260420T042443
CREATED:20240621T192557Z
LAST-MODIFIED:20240621T192557Z
UID:10000150-1719068400-1719082800@thewharfnj.com
SUMMARY:DJ Gibby
DESCRIPTION:
URL:https://thewharfnj.com/event/dj-gibby-14/
END:VEVENT
BEGIN:VEVENT
DTSTART;TZID=America/New_York:20240622T130000
DTEND;TZID=America/New_York:20240622T160000
DTSTAMP:20260420T042443
CREATED:20240621T192557Z
LAST-MODIFIED:20240621T192557Z
UID:10000151-1719061200-1719072000@thewharfnj.com
SUMMARY:Sindi Raymond Band
DESCRIPTION:
URL:https://thewharfnj.com/event/sindi-raymond-band-17/
END:VEVENT
BEGIN:VEVENT
DTSTART;TZID=America/New_York:20240621T190000
DTEND;TZID=America/New_York:20240621T220000
DTSTAMP:20260420T042443
CREATED:20240621T192557Z
LAST-MODIFIED:20240621T192557Z
UID:10000149-1718996400-1719007200@thewharfnj.com
SUMMARY:Richie Baker Duo
DESCRIPTION:
URL:https://thewharfnj.com/event/richie-baker-duo-4/
END:VEVENT
BEGIN:VEVENT
DTSTART;TZID=America/New_York:20240621T150000
DTEND;TZID=America/New_York:20240621T180000
DTSTAMP:20260420T042443
CREATED:20240621T192557Z
LAST-MODIFIED:20240621T192557Z
UID:10000148-1718982000-1718992800@thewharfnj.com
SUMMARY:Juliano Brothers Band
DESCRIPTION:
URL:https://thewharfnj.com/event/juliano-brothers-band-14/
END:VEVENT
END:VCALENDAR